BEGIN:VCALENDAR
VERSION:2.0
PRODID:-//GPA Midstream Houston Chapter - ECPv6.15.20//NONSGML v1.0//EN
CALSCALE:GREGORIAN
METHOD:PUBLISH
X-ORIGINAL-URL:https://houstongpa.org
X-WR-CALDESC:Events for GPA Midstream Houston Chapter
REFRESH-INTERVAL;VALUE=DURATION:PT1H
X-Robots-Tag:noindex
X-PUBLISHED-TTL:PT1H
BEGIN:VTIMEZONE
TZID:UTC
BEGIN:STANDARD
TZOFFSETFROM:+0000
TZOFFSETTO:+0000
TZNAME:UTC
DTSTART:20250101T000000
END:STANDARD
END:VTIMEZONE
BEGIN:VEVENT
DTSTART;TZID=UTC:20260304T113000
DTEND;TZID=UTC:20260304T130000
DTSTAMP:20260425T154447
CREATED:20250829T214101Z
LAST-MODIFIED:20260211T170157Z
UID:5663-1772623800-1772629200@houstongpa.org
SUMMARY:March Membership Luncheon
DESCRIPTION:February 5\, 2025		\n\n					\n				 @ 			\n			\n				11:30 am			\n		\n									\n					 - 				\n			\n							\n					1:00 pm				\n			\n						 \n\n \n \n \n \nJoin us for our February Luncheon!\n \n \nSPEAKER\n \n \nPrasun Chaudhury\, CEO of Aura Informatica \n \n \nPRICING\n \n \n \nMembers – $75\n \n \nLate Registration – $100\n \n \nOwner/Operators that are Corporate Members – $0\n\n \n\n	\n	\n\n	\n		The Houston Club\n	\n\n	\n						\n				\n\n910 Louisiana St.\, Ste. 4900\n	\n		\n		Houston\,\n\n	TX\n\n	77002\n\n	United States\n\n\n\n									+ Google Map							\n		\n		\n			\n	\n	\n\n	\n\n\n\n\n	\n\n \n \n \n\n \n	\n		\n			\n				\n					\n						\n	\n	\n\n						\n							Add to calendar						\n						\n	\n\n					\n					\n						\n															\n									\n										Google Calendar									\n								\n															\n									\n										iCalendar									\n								\n															\n									\n										Outlook 365									\n								\n															\n									\n										Outlook Live									\n								\n													\n					\n				\n			\n		\n	\n\n\n\n \n \nABOUT THE SPEAKER\n \n \nPrasun Chaudhury is the CEO of Aura Informatica\, a SAAS based data & analytics company that provides information and insights within the energy infrastructure value chain. \n \n \nWith over two decades of experience in data strategy\, commercialization\, and product management\, he’s driven by a passion for using data to empower companies and accelerate the energy transition. This passion fueled the creation of EnergyConnexions\, the industry’s first-of-its-kind “connected energy” data platform. This platform helps clients navigate the intricate relationships within the infrastructure value chain\, allowing them to make faster and more informed decisions. \n \n \n\n \n \nRegister Today!\n \n \nYou need to be logged in to view the rest of the content. Please Log In. Not a Member? Join Us
URL:https://houstongpa.org/event/march-luncheon-2026/
LOCATION:The Houston Club\, 910 Louisiana St.\, Ste. 4900\, Houston\, TX\, 77002\, United States
CATEGORIES:Houston Luncheons,Member-only Events
ATTACH;FMTTYPE=image/png:https://houstongpa.org/wp-content/uploads/HGPA-March-Luncheon-S2.3.png
END:VEVENT
BEGIN:VEVENT
DTSTART;TZID=UTC:20260401T113000
DTEND;TZID=UTC:20260401T130000
DTSTAMP:20260425T154447
CREATED:20250829T214607Z
LAST-MODIFIED:20260306T144746Z
UID:5665-1775043000-1775048400@houstongpa.org
SUMMARY:April Membership Luncheon
DESCRIPTION:February 5\, 2025		\n\n					\n				 @ 			\n			\n				11:30 am			\n		\n									\n					 - 				\n			\n							\n					1:00 pm				\n			\n						 \n\n \n \n \n \nJoin us for our February Luncheon!\n \n \nSPEAKER\n \n \nPrasun Chaudhury\, CEO of Aura Informatica \n \n \nPRICING\n \n \n \nMembers – $75\n \n \nLate Registration – $100\n \n \nOwner/Operators that are Corporate Members – $0\n\n \n\n	\n	\n\n	\n		The Houston Club\n	\n\n	\n						\n				\n\n910 Louisiana St.\, Ste. 4900\n	\n		\n		Houston\,\n\n	TX\n\n	77002\n\n	United States\n\n\n\n									+ Google Map							\n		\n		\n			\n	\n	\n\n	\n\n\n\n\n	\n\n \n \n \n\n \n	\n		\n			\n				\n					\n						\n	\n	\n\n						\n							Add to calendar						\n						\n	\n\n					\n					\n						\n															\n									\n										Google Calendar									\n								\n															\n									\n										iCalendar									\n								\n															\n									\n										Outlook 365									\n								\n															\n									\n										Outlook Live									\n								\n													\n					\n				\n			\n		\n	\n\n\n\n \n \nABOUT THE SPEAKER\n \n \nPrasun Chaudhury is the CEO of Aura Informatica\, a SAAS based data & analytics company that provides information and insights within the energy infrastructure value chain. \n \n \nWith over two decades of experience in data strategy\, commercialization\, and product management\, he’s driven by a passion for using data to empower companies and accelerate the energy transition. This passion fueled the creation of EnergyConnexions\, the industry’s first-of-its-kind “connected energy” data platform. This platform helps clients navigate the intricate relationships within the infrastructure value chain\, allowing them to make faster and more informed decisions. \n \n \n\n \n \nRegister Today!\n \n \nYou need to be logged in to view the rest of the content. Please Log In. Not a Member? Join Us
URL:https://houstongpa.org/event/april-luncheon-2026/
LOCATION:The Houston Club\, 910 Louisiana St.\, Ste. 4900\, Houston\, TX\, 77002\, United States
CATEGORIES:Houston Luncheons,Member-only Events
ATTACH;FMTTYPE=image/png:https://houstongpa.org/wp-content/uploads/HGPA-April-2026-Luncheon-S1.png
END:VEVENT
BEGIN:VEVENT
DTSTART;TZID=UTC:20260506T111500
DTEND;TZID=UTC:20260506T133000
DTSTAMP:20260425T154447
CREATED:20250829T214846Z
LAST-MODIFIED:20260413T202703Z
UID:5667-1778066100-1778074200@houstongpa.org
SUMMARY:May Membership & Scholarship Recipient Luncheon
DESCRIPTION:February 5\, 2025		\n\n					\n				 @ 			\n			\n				11:30 am			\n		\n									\n					 - 				\n			\n							\n					1:00 pm				\n			\n						 \n\n \n \n \n \nJoin us for our February Luncheon!\n \n \nSPEAKER\n \n \nPrasun Chaudhury\, CEO of Aura Informatica \n \n \nPRICING\n \n \n \nMembers – $75\n \n \nLate Registration – $100\n \n \nOwner/Operators that are Corporate Members – $0\n\n \n\n	\n	\n\n	\n		The Houston Club\n	\n\n	\n						\n				\n\n910 Louisiana St.\, Ste. 4900\n	\n		\n		Houston\,\n\n	TX\n\n	77002\n\n	United States\n\n\n\n									+ Google Map							\n		\n		\n			\n	\n	\n\n	\n\n\n\n\n	\n\n \n \n \n\n \n	\n		\n			\n				\n					\n						\n	\n	\n\n						\n							Add to calendar						\n						\n	\n\n					\n					\n						\n															\n									\n										Google Calendar									\n								\n															\n									\n										iCalendar									\n								\n															\n									\n										Outlook 365									\n								\n															\n									\n										Outlook Live									\n								\n													\n					\n				\n			\n		\n	\n\n\n\n \n \nABOUT THE SPEAKER\n \n \nPrasun Chaudhury is the CEO of Aura Informatica\, a SAAS based data & analytics company that provides information and insights within the energy infrastructure value chain. \n \n \nWith over two decades of experience in data strategy\, commercialization\, and product management\, he’s driven by a passion for using data to empower companies and accelerate the energy transition. This passion fueled the creation of EnergyConnexions\, the industry’s first-of-its-kind “connected energy” data platform. This platform helps clients navigate the intricate relationships within the infrastructure value chain\, allowing them to make faster and more informed decisions. \n \n \n\n \n \nRegister Today!\n \n \nYou need to be logged in to view the rest of the content. Please Log In. Not a Member? Join Us
URL:https://houstongpa.org/event/may-luncheon-2026/
LOCATION:The Houston Club\, 910 Louisiana St.\, Ste. 4900\, Houston\, TX\, 77002\, United States
CATEGORIES:Houston Luncheons,Member-only Events
ATTACH;FMTTYPE=image/png:https://houstongpa.org/wp-content/uploads/Houston-GPA-Luncheon-29-1.png
END:VEVENT
END:VCALENDAR