BEGIN:VCALENDAR
VERSION:2.0
PRODID:-//GPA Midstream Houston Chapter - ECPv6.15.20//NONSGML v1.0//EN
CALSCALE:GREGORIAN
METHOD:PUBLISH
X-ORIGINAL-URL:https://houstongpa.org
X-WR-CALDESC:Events for GPA Midstream Houston Chapter
REFRESH-INTERVAL;VALUE=DURATION:PT1H
X-Robots-Tag:noindex
X-PUBLISHED-TTL:PT1H
BEGIN:VTIMEZONE
TZID:UTC
BEGIN:STANDARD
TZOFFSETFROM:+0000
TZOFFSETTO:+0000
TZNAME:UTC
DTSTART:20240101T000000
END:STANDARD
END:VTIMEZONE
BEGIN:VEVENT
DTSTART;TZID=UTC:20250917T191000
DTEND;TZID=UTC:20250917T213000
DTSTAMP:20260424T184317
CREATED:20250624T214042Z
LAST-MODIFIED:20250902T170742Z
UID:5538-1758136200-1758144600@houstongpa.org
SUMMARY:HGPA Astros Social Outreach Event 2025
DESCRIPTION:Members! Join us as we cheer on the Astros against the Rangers!\n\n\n\nThis HGPA event will benefit the Mighty Oaks Foundation. \n\n\n\n\n\n\n\nEVENT DETAILS:\n\n\n\nDATE: September 17\, 2025 \n\n\n\nGAME TIME: 7:10 PM \n\n\n\nLOCATION: Daikin Park @ Budweiser Brewhouse Section (Center Field) – Tier 2 \n\n\n\n\n\n\n\nPRICING:\n\n\n\nTICKET: $300 \n\n\n\nTickets include $25 F&B Credit / Team Shop Credit.  \n\n\n\n\n\n\n\n\n\n\n\n\n\n\n\n\n\n\n\nThis Event is Sold Out!
URL:https://houstongpa.org/event/hgpa-astros-social-outreach-event-2025/
LOCATION:Daikin Park\, 501 Crawford St\, Houston\, Texas\, 77002\, United States
CATEGORIES:Houston Happy Hours & Socials,Member-only Events
ATTACH;FMTTYPE=image/png:https://houstongpa.org/wp-content/uploads/HGPA-Astros-Social-Launch.png
END:VEVENT
BEGIN:VEVENT
DTSTART;TZID=UTC:20250922T150000
DTEND;TZID=UTC:20250922T170000
DTSTAMP:20260424T184317
CREATED:20250730T140442Z
LAST-MODIFIED:20260107T014931Z
UID:5589-1758553200-1758560400@houstongpa.org
SUMMARY:HGPA Happy Hour
DESCRIPTION:Join Us for Happy Hour!\n\n\n\nHGPA Members! We’d love for you to join us for a fun and relaxed Happy Hour during the upcoming GPA National Convention. It’s a great chance to catch up with familiar faces\, make new connections\, and unwind after a day at the leading technical conference in our industry.  \n\n\n\nLet us know you’re coming by registering below! \n\n\n\nDATE: September 22\, 2025 \n\n\n\nTIME: 3:00 PM – 5:00 PM \n\n\n\nPLACE: Mad Dog British Pub\, 123 Losoya St\, Ste 19\, San Antonio\, TX 78205 \n\n\n\n\n\n\n\nSPONSOR THIS EVENT!\n\n\n\nTITLE SPONSOR: $1\,250 SOLD OUTIncludes A-frame and table signage outside venue entrance and company recognition on the website. \n\n\n\nKOOZIE SPONSOR: $750 SOLD OUTIncludes company-branded koozies and recognition on the website. \n\n\n\n\n\n\n\n\n\nThank you to our Sponsors!\n\n\n\n\n\n\nTitle Sponsor \n\n\nKoozie Sponsor \n\n\n\n\n\n\n\n\n\n\n\n\n\nRSVP Today!
URL:https://houstongpa.org/event/hgpa-happy-hour-2025/
LOCATION:Mad Dogs British Pub\, 123 Losoya St\, Ste. 19\, San Antonio\, Texas\, 78205\, United States
CATEGORIES:Houston Happy Hours & Socials,Member-only Events
ATTACH;FMTTYPE=image/png:https://houstongpa.org/wp-content/uploads/HGPA-HH25-Feature.png
END:VEVENT
END:VCALENDAR