BEGIN:VCALENDAR
VERSION:2.0
PRODID:-//GPA Midstream Houston Chapter - ECPv6.15.20//NONSGML v1.0//EN
CALSCALE:GREGORIAN
METHOD:PUBLISH
X-ORIGINAL-URL:https://houstongpa.org
X-WR-CALDESC:Events for GPA Midstream Houston Chapter
REFRESH-INTERVAL;VALUE=DURATION:PT1H
X-Robots-Tag:noindex
X-PUBLISHED-TTL:PT1H
BEGIN:VTIMEZONE
TZID:UTC
BEGIN:STANDARD
TZOFFSETFROM:+0000
TZOFFSETTO:+0000
TZNAME:UTC
DTSTART:20230101T000000
END:STANDARD
END:VTIMEZONE
BEGIN:VEVENT
DTSTART;TZID=UTC:20240911T191000
DTEND;TZID=UTC:20240911T213000
DTSTAMP:20260425T120833
CREATED:20240531T202145Z
LAST-MODIFIED:20240725T174624Z
UID:4586-1726081800-1726090200@houstongpa.org
SUMMARY:HPGA Astros Social Outreach Event
DESCRIPTION:This event is SOLD OUT!\n\n\n\nJoin the HGPA as we cheer on the Astros! This is a member only event. \n\n\n\nTickets include $25 F&B Credit / Team Shop Credit. This HGPA event will be benefitting the Mighty Oaks Foundation. \n\n\n\nDATE: September 11\, 2024 \n\n\n\nTIME: 7:10 PM Game Time \n\n\n\nPLACE: Minute Maid Park @ Budweiser Brewhouse Section in Center Field \n\n\n\nPRICING\n\n\n\n\nTicket – $200\n\n\n\n\n\n\n\n\n\n\n\n\n\n\n\n\nMembers Register Now!\n\n\n\nSorry\, the page you are trying to access is not accepting submissions at this time.
URL:https://houstongpa.org/event/hpga-astros-social-outreach-event-2/
LOCATION:Minute Maid Park\, 501 Crawford St\, Houston\, Texas\, 77002
CATEGORIES:Houston Happy Hours & Socials,Member-only Events
ATTACH;FMTTYPE=image/png:https://houstongpa.org/wp-content/uploads/2024-HGPA-Young-Professional-Social-15.png
END:VEVENT
BEGIN:VEVENT
DTSTART;TZID=UTC:20240923T150000
DTEND;TZID=UTC:20240923T170000
DTSTAMP:20260425T120833
CREATED:20240625T195811Z
LAST-MODIFIED:20240813T192619Z
UID:4597-1727103600-1727110800@houstongpa.org
SUMMARY:HGPA Happy Hour
DESCRIPTION:Join Us for Happy Hour\n\n\n\nBe sure to join us for drinks and networking during the upcoming GPA National Convention. We are looking forward to coming together at GPA’s leading technical conference and seeing familiar faces for Happy Hour! Please register your attendance so our team can be prepared! \n\n\n\nDATE: September 23\, 2024 \n\n\n\nTIME: 3:00 PM – 5:00 PM \n\n\n\nPLACE: Mad Dog British Pub\, 123 Losoya St\, Ste 19\, San Antonio\, TX 78205 \n\n\n\n\n\n\n\n\n\n\n\n\n\n\n\n\n\nThank you to our Sponsors!\n\n\n\n\n\n\nBeverage Sponsor \n\n\nKoozie Sponsor \n\n\n\n\n\n\n\n\n\nRegister Today!
URL:https://houstongpa.org/event/hgpa-happy-hour/
LOCATION:Mad Dogs British Pub\, 123 Losoya St\, Ste. 19\, San Antonio\, Texas\, 78205\, United States
CATEGORIES:Houston Happy Hours & Socials
ATTACH;FMTTYPE=image/png:https://houstongpa.org/wp-content/uploads/HGPA-Happy-Hour-6.png
END:VEVENT
END:VCALENDAR